BEGIN:VCALENDAR
VERSION:2.0
PRODID:-//eventon.com NONSGML v1.0//EN
CALSCALE:GREGORIAN
METHOD:PUBLISH
BEGIN:VEVENT
UID:69e602d619fe5
DTSTAMP:20260420T104126Z
DTSTART:20260209T210000Z
DTEND:20260210T045900Z
LOCATION:County of Summit ADM Board - Trailblazer Conference Room 1867 W Market St\,  Suite B2
SUMMARY:Board of Directors Fiscal Oversight Committee Meeting
DESCRIPTION:SC ADM Board of Directors Fiscal Oversight Committee Meeting No
 tice &#038; Agenda_February 2026_Public NoticeDownload\nhttps://admboard.or
 g/events/board-of-directors-fiscal-oversight-committee-meeting-7/
URL:https://admboard.org/events/board-of-directors-fiscal-oversight-committee-meeting-7/
END:VEVENT
END:VCALENDAR