BEGIN:VCALENDAR
VERSION:2.0
PRODID:-//eventon.com NONSGML v1.0//EN
CALSCALE:GREGORIAN
METHOD:PUBLISH
BEGIN:VEVENT
UID:69e595de229b1
DTSTAMP:20260420T025630Z
DTSTART:20260407T200000Z
DTEND:20260408T035900Z
LOCATION:County of Summit ADM Board - Trailblazer Conference Room 1867 W Market St\,  Suite B2
SUMMARY:Board of Directors Governance Committee Meeting
DESCRIPTION:SC ADM Board of Directors Governance Committee Meeting Notice &
 #038; Agenda_ April 2026_PUBLIC NOTICEDownload\nhttps://admboard.org/events
 /board-of-directors-governance-committee-meeting-7/
URL:https://admboard.org/events/board-of-directors-governance-committee-meeting-7/
END:VEVENT
END:VCALENDAR