BEGIN:VCALENDAR
VERSION:2.0
PRODID:-//eventon.com NONSGML v1.0//EN
CALSCALE:GREGORIAN
METHOD:PUBLISH
BEGIN:VEVENT
UID:69e5951335b00
DTSTAMP:20260420T025307Z
DTSTART:20260414T200000Z
DTEND:20260415T035900Z
LOCATION:County of Summit ADM Board - Trailblazer Conference Room 1867 W Market St\,  Suite B2
SUMMARY:Board of Directors Executive Compensation Committee Meeting
DESCRIPTION:SC ADM Board of Directors Executive Compensation Committee Meet
 ing Notice &#038; Agenda_April 2026Download\nhttps://admboard.org/events/bo
 ard-of-directors-executive-compensation-committee-meeting-5/
URL:https://admboard.org/events/board-of-directors-executive-compensation-committee-meeting-5/
END:VEVENT
END:VCALENDAR